BEGIN:VCALENDAR
VERSION:2.0
PRODID:-//eventon.com NONSGML v1.0//EN
CALSCALE:GREGORIAN
METHOD:PUBLISH
BEGIN:VEVENT
UID:69e7a6bd0abe4
DTSTAMP:20260421T163301Z
DTSTART:20251031T110000Z
DTEND:20251031T160000Z
LOCATION:Wildpark Lüneburger Heide Wildpark 1\,  21271 Hanstedt
SUMMARY:Halloween-Olympiade im Wildpark
DESCRIPTION:Halloween-Olympiade der kleinen Geister Am 31. Oktober verwande
 lt sich der mittlere Rundweg im Wildpark von 12 bis 17 Uhr in eine geheimni
 svolle Geister-Arena. 👻✨ Alle kleinen Gespenster\,  Hexen und Kobolde 
 sind eingeladen\,  ihren Mut\,  ihre Schnelligkeit und ihre Klugheit unter 
 Beweis zu stellen. Ob knifflige Rätsel\,  Kraftproben oder Geschicklichkei
 tsstationen –[..]\nhttps://wild-park.de/events/halloween-2025/
URL:https://wild-park.de/events/halloween-2025/
END:VEVENT
END:VCALENDAR