BEGIN:VCALENDAR
VERSION:2.0
PRODID:-//eventon.com NONSGML v1.0//EN
CALSCALE:GREGORIAN
METHOD:PUBLISH
BEGIN:VEVENT
UID:69e730dba0a69
DTSTAMP:20260421T081003Z
DTSTART:20260406T100000Z
DTEND:20260406T150000Z
LOCATION:Wildpark Lüneburger Heide Wildpark 1\,  21271 Hanstedt
SUMMARY:Ostern im Wildpark Lüneburger Heide (Mo)
DESCRIPTION:Hasenschule &#8211; Rechnen\,  Rennen\,  Rübenkunde Wir laden 
 herzlich ein zum Osterfest am 5. und 6. April 2026 von 12 bis 17 Uhr unter 
 dem Motto: &#8222;Die Hasenschule – Rechnen\,  Rennen\,  Rübenkunde&#822
 0;. Es erwartet euch eine Zeit voller Spaß und Abenteuer. Auf dem Weg durc
 h zahlreiche Aktionsstationen könnt ihr euer Wissen\, [..]\nhttps://wild-p
 ark.de/events/osterfest-im-wildpark-montag/
URL:https://wild-park.de/events/osterfest-im-wildpark-montag/
END:VEVENT
END:VCALENDAR